BEGIN:VCALENDAR
VERSION:2.0
PRODID:-//AMDA Jalisco - ECPv6.15.18//NONSGML v1.0//EN
CALSCALE:GREGORIAN
METHOD:PUBLISH
X-ORIGINAL-URL:https://www.amdajal.com.mx
X-WR-CALDESC:Eventos para AMDA Jalisco
REFRESH-INTERVAL;VALUE=DURATION:PT1H
X-Robots-Tag:noindex
X-PUBLISHED-TTL:PT1H
BEGIN:VTIMEZONE
TZID:UTC
BEGIN:STANDARD
TZOFFSETFROM:+0000
TZOFFSETTO:+0000
TZNAME:UTC
DTSTART:20220101T000000
END:STANDARD
END:VTIMEZONE
BEGIN:VEVENT
DTSTART;TZID=UTC:20230323T090000
DTEND;TZID=UTC:20230324T180000
DTSTAMP:20260420T055914
CREATED:20230309T170546Z
LAST-MODIFIED:20230311T163126Z
UID:4057-1679562000-1679680800@www.amdajal.com.mx
SUMMARY:Validación Vehicular
DESCRIPTION:Regístrate Aquí
URL:https://www.amdajal.com.mx/event/validacion-vehicular-2/
LOCATION:Jalisco
CATEGORIES:Capacitacion
ATTACH;FMTTYPE=image/png:https://www.amdajal.com.mx/wp-content/uploads/2023/03/Validacion-vehicular2023.png
END:VEVENT
END:VCALENDAR