BEGIN:VCALENDAR
VERSION:2.0
PRODID:-//AMDA Jalisco - ECPv6.15.18//NONSGML v1.0//EN
CALSCALE:GREGORIAN
METHOD:PUBLISH
X-ORIGINAL-URL:https://www.amdajal.com.mx
X-WR-CALDESC:Eventos para AMDA Jalisco
REFRESH-INTERVAL;VALUE=DURATION:PT1H
X-Robots-Tag:noindex
X-PUBLISHED-TTL:PT1H
BEGIN:VTIMEZONE
TZID:UTC
BEGIN:STANDARD
TZOFFSETFROM:+0000
TZOFFSETTO:+0000
TZNAME:UTC
DTSTART:20220101T000000
END:STANDARD
END:VTIMEZONE
BEGIN:VEVENT
DTSTART;TZID=UTC:20230222T090000
DTEND;TZID=UTC:20230222T110000
DTSTAMP:20260420T072432
CREATED:20230119T230355Z
LAST-MODIFIED:20230119T231050Z
UID:3962-1677056400-1677063600@www.amdajal.com.mx
SUMMARY:Platica Ley Antilavado de Dinero 2023
DESCRIPTION:Registrate Aquí
URL:https://www.amdajal.com.mx/event/platica-ley-antilavado-de-dinero-2023/
LOCATION:Jalisco
CATEGORIES:Capacitacion
ATTACH;FMTTYPE=image/jpeg:https://www.amdajal.com.mx/wp-content/uploads/2023/01/Platica-antilavado-203.jpg
END:VEVENT
END:VCALENDAR