BEGIN:VCALENDAR
VERSION:2.0
PRODID:-//AMDA Jalisco - ECPv6.15.18//NONSGML v1.0//EN
CALSCALE:GREGORIAN
METHOD:PUBLISH
X-ORIGINAL-URL:https://www.amdajal.com.mx
X-WR-CALDESC:Eventos para AMDA Jalisco
REFRESH-INTERVAL;VALUE=DURATION:PT1H
X-Robots-Tag:noindex
X-PUBLISHED-TTL:PT1H
BEGIN:VTIMEZONE
TZID:UTC
BEGIN:STANDARD
TZOFFSETFROM:+0000
TZOFFSETTO:+0000
TZNAME:UTC
DTSTART:20210101T000000
END:STANDARD
END:VTIMEZONE
BEGIN:VEVENT
DTSTART;TZID=UTC:20220708T091500
DTEND;TZID=UTC:20220708T111500
DTSTAMP:20260424T052514
CREATED:20220624T180213Z
LAST-MODIFIED:20220624T184357Z
UID:3735-1657271700-1657278900@www.amdajal.com.mx
SUMMARY:Junta Gerentes de Recursos Humanos
DESCRIPTION:Registrarse
URL:https://www.amdajal.com.mx/event/junta-gerentes-de-recursos-humanos/
CATEGORIES:Capacitacion
ATTACH;FMTTYPE=image/jpeg:https://www.amdajal.com.mx/wp-content/uploads/2022/06/Gtes-de-RH-8-julio.jpg
END:VEVENT
END:VCALENDAR