BEGIN:VCALENDAR
VERSION:2.0
PRODID:-//AMDA Jalisco - ECPv6.15.18//NONSGML v1.0//EN
CALSCALE:GREGORIAN
METHOD:PUBLISH
X-ORIGINAL-URL:https://www.amdajal.com.mx
X-WR-CALDESC:Eventos para AMDA Jalisco
REFRESH-INTERVAL;VALUE=DURATION:PT1H
X-Robots-Tag:noindex
X-PUBLISHED-TTL:PT1H
BEGIN:VTIMEZONE
TZID:UTC
BEGIN:STANDARD
TZOFFSETFROM:+0000
TZOFFSETTO:+0000
TZNAME:UTC
DTSTART:20210101T000000
END:STANDARD
END:VTIMEZONE
BEGIN:VEVENT
DTSTART;TZID=UTC:20220715T090000
DTEND;TZID=UTC:20221112T180000
DTSTAMP:20260422T094958
CREATED:20220509T183000Z
LAST-MODIFIED:20220511T143027Z
UID:3681-1657875600-1668276000@www.amdajal.com.mx
SUMMARY:Diplomado en Finanzas para Ejecutivos de Ventas del Sector Automotor
DESCRIPTION:Regístrate Aquí
URL:https://www.amdajal.com.mx/event/diplomado-en-finanzas-para-ejecutivos-de-ventas-del-sector-automotor/
LOCATION:Jalisco
CATEGORIES:Capacitacion
ATTACH;FMTTYPE=image/jpeg:https://www.amdajal.com.mx/wp-content/uploads/2022/05/Diplomado-Fzas.jpg
END:VEVENT
BEGIN:VEVENT
DTSTART;TZID=UTC:20220818T090000
DTEND;TZID=UTC:20221209T180000
DTSTAMP:20260422T094958
CREATED:20220509T183752Z
LAST-MODIFIED:20220614T161408Z
UID:3685-1660813200-1670608800@www.amdajal.com.mx
SUMMARY:Diplomado en Ventas
DESCRIPTION:Regístrate Aquí\n\n\n\nTemario Aquí
URL:https://www.amdajal.com.mx/event/diplomado-en-ventas/
LOCATION:Jalisco
CATEGORIES:Capacitacion
ATTACH;FMTTYPE=image/jpeg:https://www.amdajal.com.mx/wp-content/uploads/2022/05/Diplomado-en-Ventas.jpg
END:VEVENT
BEGIN:VEVENT
DTSTART;TZID=UTC:20221108T090000
DTEND;TZID=UTC:20221108T180000
DTSTAMP:20260422T094958
CREATED:20221006T162345Z
LAST-MODIFIED:20221007T192941Z
UID:3854-1667898000-1667930400@www.amdajal.com.mx
SUMMARY:Ventas para no vendedores
DESCRIPTION:Regístrate Aquí
URL:https://www.amdajal.com.mx/event/ventas-para-no-vendedores/
LOCATION:Jalisco
CATEGORIES:Capacitacion
ATTACH;FMTTYPE=image/jpeg:https://www.amdajal.com.mx/wp-content/uploads/2022/10/graham.jpg
END:VEVENT
BEGIN:VEVENT
DTSTART;TZID=UTC:20221109T090000
DTEND;TZID=UTC:20221110T180000
DTSTAMP:20260422T094958
CREATED:20221006T165321Z
LAST-MODIFIED:20221007T193028Z
UID:3864-1667984400-1668103200@www.amdajal.com.mx
SUMMARY:Los 7 Pilares del Éxito en Ventas
DESCRIPTION:Regístrate Aquí
URL:https://www.amdajal.com.mx/event/los-7-pilares-del-exito-en-ventas/
LOCATION:Jalisco
CATEGORIES:Capacitacion
ATTACH;FMTTYPE=image/jpeg:https://www.amdajal.com.mx/wp-content/uploads/2022/10/los-7-pilares-del-exito-.jpg
END:VEVENT
END:VCALENDAR