BEGIN:VCALENDAR
VERSION:2.0
PRODID:-//AMDA Jalisco - ECPv6.15.18//NONSGML v1.0//EN
CALSCALE:GREGORIAN
METHOD:PUBLISH
X-WR-CALNAME:AMDA Jalisco
X-ORIGINAL-URL:https://www.amdajal.com.mx
X-WR-CALDESC:Eventos para AMDA Jalisco
REFRESH-INTERVAL;VALUE=DURATION:PT1H
X-Robots-Tag:noindex
X-PUBLISHED-TTL:PT1H
BEGIN:VTIMEZONE
TZID:UTC
BEGIN:STANDARD
TZOFFSETFROM:+0000
TZOFFSETTO:+0000
TZNAME:UTC
DTSTART:20210101T000000
END:STANDARD
END:VTIMEZONE
BEGIN:VEVENT
DTSTART;TZID=UTC:20220401T090000
DTEND;TZID=UTC:20220401T140000
DTSTAMP:20260424T083855
CREATED:20220328T173708Z
LAST-MODIFIED:20220329T173717Z
UID:3613-1648803600-1648821600@www.amdajal.com.mx
SUMMARY:Excel Intermedio
DESCRIPTION:
URL:https://www.amdajal.com.mx/event/excel-intermedio/
CATEGORIES:Capacitacion
ATTACH;FMTTYPE=image/jpeg:https://www.amdajal.com.mx/wp-content/uploads/2022/03/excel-intermedio-1.jpeg
END:VEVENT
BEGIN:VEVENT
DTSTART;TZID=UTC:20220405T100000
DTEND;TZID=UTC:20220405T113000
DTSTAMP:20260424T083855
CREATED:20220317T194238Z
LAST-MODIFIED:20220317T194243Z
UID:3608-1649152800-1649158200@www.amdajal.com.mx
SUMMARY:La prevención como Herramienta (Cycuramx - Amda jalisco)
DESCRIPTION:Regístrate Aquí
URL:https://www.amdajal.com.mx/event/la-prevencion-como-herramienta-cycuramx-amda-jalisco/
CATEGORIES:Capacitacion
ATTACH;FMTTYPE=image/jpeg:https://www.amdajal.com.mx/wp-content/uploads/2022/03/cycuramx.jpeg
END:VEVENT
BEGIN:VEVENT
DTSTART;TZID=UTC:20220408T090000
DTEND;TZID=UTC:20220408T140000
DTSTAMP:20260424T083855
CREATED:20220328T174133Z
LAST-MODIFIED:20220328T174137Z
UID:3616-1649408400-1649426400@www.amdajal.com.mx
SUMMARY:Excel Avanzado
DESCRIPTION:
URL:https://www.amdajal.com.mx/event/excel-avanzado/
CATEGORIES:Capacitacion
ATTACH;FMTTYPE=image/jpeg:https://www.amdajal.com.mx/wp-content/uploads/2022/03/excel-avanzado.jpeg
END:VEVENT
BEGIN:VEVENT
DTSTART;TZID=UTC:20220409T090000
DTEND;TZID=UTC:20220409T140000
DTSTAMP:20260424T083855
CREATED:20220329T173551Z
LAST-MODIFIED:20220329T173555Z
UID:3629-1649494800-1649512800@www.amdajal.com.mx
SUMMARY:Excel - Macros Grabadas
DESCRIPTION:
URL:https://www.amdajal.com.mx/event/excel-macros-grabadas/
CATEGORIES:Capacitacion
ATTACH;FMTTYPE=image/jpeg:https://www.amdajal.com.mx/wp-content/uploads/2022/03/macros-1.jpeg
END:VEVENT
BEGIN:VEVENT
DTSTART;TZID=UTC:20220425T100000
DTEND;TZID=UTC:20220425T120000
DTSTAMP:20260424T083855
CREATED:20220316T160313Z
LAST-MODIFIED:20220329T173952Z
UID:3605-1650880800-1650888000@www.amdajal.com.mx
SUMMARY:Como atender una visita del SAT sobre Ley Antilavado de Dinero
DESCRIPTION:Regístrate Aquí
URL:https://www.amdajal.com.mx/event/como-atender-una-visita-del-sat-sobre-ley-antilavado-de-dinero/
CATEGORIES:Capacitacion
ATTACH;FMTTYPE=image/jpeg:https://www.amdajal.com.mx/wp-content/uploads/2022/03/CURSOS-PLD-ONLINE.jpg
END:VEVENT
END:VCALENDAR