BEGIN:VCALENDAR
VERSION:2.0
PRODID:-//AMDA Jalisco - ECPv6.15.18//NONSGML v1.0//EN
CALSCALE:GREGORIAN
METHOD:PUBLISH
X-ORIGINAL-URL:https://www.amdajal.com.mx
X-WR-CALDESC:Eventos para AMDA Jalisco
REFRESH-INTERVAL;VALUE=DURATION:PT1H
X-Robots-Tag:noindex
X-PUBLISHED-TTL:PT1H
BEGIN:VTIMEZONE
TZID:UTC
BEGIN:STANDARD
TZOFFSETFROM:+0000
TZOFFSETTO:+0000
TZNAME:UTC
DTSTART:20210101T000000
END:STANDARD
END:VTIMEZONE
BEGIN:VEVENT
DTSTART;TZID=UTC:20220228T090000
DTEND;TZID=UTC:20220301T180000
DTSTAMP:20260424T102029
CREATED:20220215T231037Z
LAST-MODIFIED:20220221T171239Z
UID:3547-1646038800-1646157600@www.amdajal.com.mx
SUMMARY:CALIDAD Y SERVICIO "EL PODER DE UNA CULTURA DE SERVICIO"
DESCRIPTION:Clic para Registrarte
URL:https://www.amdajal.com.mx/event/calidad-y-servicio-el-poder-de-una-cultura-de-servicio/
CATEGORIES:Capacitacion
ATTACH;FMTTYPE=image/jpeg:https://www.amdajal.com.mx/wp-content/uploads/2022/02/CALIDAD-Y-SERVICIO-AMDAJAL.jpg
END:VEVENT
BEGIN:VEVENT
DTSTART;TZID=UTC:20220318T090000
DTEND;TZID=UTC:20220318T140000
DTSTAMP:20260424T102029
CREATED:20220307T185537Z
LAST-MODIFIED:20220307T185542Z
UID:3572-1647594000-1647612000@www.amdajal.com.mx
SUMMARY:EXCEL BÁSICO
DESCRIPTION:
URL:https://www.amdajal.com.mx/event/excel-basico/
CATEGORIES:Capacitacion
ATTACH;FMTTYPE=image/jpeg:https://www.amdajal.com.mx/wp-content/uploads/2022/03/18deMarzo.jpeg
END:VEVENT
BEGIN:VEVENT
DTSTART;TZID=UTC:20220322T090000
DTEND;TZID=UTC:20220322T110000
DTSTAMP:20260424T102029
CREATED:20220312T182619Z
LAST-MODIFIED:20220317T203854Z
UID:3598-1647939600-1647946800@www.amdajal.com.mx
SUMMARY:CFDI 4.0
DESCRIPTION:Registro\n\n\n\nTemario
URL:https://www.amdajal.com.mx/event/cfdi-4-0/
CATEGORIES:Capacitacion
ATTACH;FMTTYPE=image/jpeg:https://www.amdajal.com.mx/wp-content/uploads/2022/03/CFDI-4.0.jpg
END:VEVENT
END:VCALENDAR