BEGIN:VCALENDAR
VERSION:2.0
PRODID:-//AMDA Jalisco - ECPv6.15.18//NONSGML v1.0//EN
CALSCALE:GREGORIAN
METHOD:PUBLISH
X-WR-CALNAME:AMDA Jalisco
X-ORIGINAL-URL:https://www.amdajal.com.mx
X-WR-CALDESC:Eventos para AMDA Jalisco
REFRESH-INTERVAL;VALUE=DURATION:PT1H
X-Robots-Tag:noindex
X-PUBLISHED-TTL:PT1H
BEGIN:VTIMEZONE
TZID:UTC
BEGIN:STANDARD
TZOFFSETFROM:+0000
TZOFFSETTO:+0000
TZNAME:UTC
DTSTART:20210101T000000
END:STANDARD
END:VTIMEZONE
BEGIN:VEVENT
DTSTART;TZID=UTC:20220202T090000
DTEND;TZID=UTC:20220202T170000
DTSTAMP:20260424T114059
CREATED:20220108T165143Z
LAST-MODIFIED:20220108T165146Z
UID:3494-1643792400-1643821200@www.amdajal.com.mx
SUMMARY:Reformas Fiscales
DESCRIPTION:Regístrate
URL:https://www.amdajal.com.mx/event/reformas-fiscales/
CATEGORIES:Capacitacion
ATTACH;FMTTYPE=image/jpeg:https://www.amdajal.com.mx/wp-content/uploads/2022/01/reformas-fiscales.jpg
END:VEVENT
BEGIN:VEVENT
DTSTART;TZID=UTC:20220223T000000
DTEND;TZID=UTC:20220223T000100
DTSTAMP:20260424T114059
CREATED:20220208T162425Z
LAST-MODIFIED:20220221T170916Z
UID:3531-1645574400-1645574460@www.amdajal.com.mx
SUMMARY:Herramientas para la Prevención de lavado de dinero en las Agencias Automotrices.
DESCRIPTION:Registro
URL:https://www.amdajal.com.mx/event/herramientas-para-la-prevencion-de-lavado-de-dinero-en-las-agencias-automotrices/
CATEGORIES:Capacitacion
ATTACH;FMTTYPE=image/jpeg:https://www.amdajal.com.mx/wp-content/uploads/2022/02/Herramientas-Prevencion-de-LDD.jpeg
END:VEVENT
BEGIN:VEVENT
DTSTART;TZID=UTC:20220224T090000
DTEND;TZID=UTC:20220224T120000
DTSTAMP:20260424T114059
CREATED:20220211T220038Z
LAST-MODIFIED:20220221T171023Z
UID:3542-1645693200-1645704000@www.amdajal.com.mx
SUMMARY:Carta Porte y CFDI
DESCRIPTION:Regístrate Aquí
URL:https://www.amdajal.com.mx/event/carta-porte-y-cfdi/
CATEGORIES:Capacitacion
ATTACH;FMTTYPE=image/jpeg:https://www.amdajal.com.mx/wp-content/uploads/2022/02/carta-porte-y-cfdi-1.jpg
END:VEVENT
BEGIN:VEVENT
DTSTART;TZID=UTC:20220228T090000
DTEND;TZID=UTC:20220301T180000
DTSTAMP:20260424T114059
CREATED:20220215T231037Z
LAST-MODIFIED:20220221T171239Z
UID:3547-1646038800-1646157600@www.amdajal.com.mx
SUMMARY:CALIDAD Y SERVICIO "EL PODER DE UNA CULTURA DE SERVICIO"
DESCRIPTION:Clic para Registrarte
URL:https://www.amdajal.com.mx/event/calidad-y-servicio-el-poder-de-una-cultura-de-servicio/
CATEGORIES:Capacitacion
ATTACH;FMTTYPE=image/jpeg:https://www.amdajal.com.mx/wp-content/uploads/2022/02/CALIDAD-Y-SERVICIO-AMDAJAL.jpg
END:VEVENT
END:VCALENDAR